BEGIN:VCALENDAR
VERSION:2.0
PRODID:-//Squarespace Inc/Squarespace 6//v6//EN
BEGIN:VEVENT
UID:6087d58a8f5118558edf5cdd@squarespace.com
DTSTAMP:20210427T203929Z
DTSTART:20210430T000000Z
DTEND:20210430T010000Z
SUMMARY:OCA Fireside Chat: Mobilizing & Organizing Your Community Towards L
 asting Change
END:VEVENT
END:VCALENDAR
